BEGIN:VCALENDAR
VERSION:2.0
PRODID:-//hacksw/handcal//NONSGML v1.0//EN
BEGIN:VEVENT
UID:16493
DTSTART;VALUE=DATE:20230401
URL;VALUE=URI:ohschonhell.at/?page_id=36744
SUMMARY:G.SPOT strictly electro
LOCATION:Der Ponyhof
END:VEVENT
END:VCALENDAR


