BEGIN:VCALENDAR
VERSION:2.0
PRODID:-//hacksw/handcal//NONSGML v1.0//EN
BEGIN:VEVENT
UID:1651
DTSTART;VALUE=DATE:20140712
URL;VALUE=URI:ohschonhell.at/?page_id=4214
SUMMARY:House und Hof #4 SEASON CLOSING
LOCATION:RAGNARHOF
END:VEVENT
END:VCALENDAR


