BEGIN:VCALENDAR
VERSION:2.0
PRODID:-//hacksw/handcal//NONSGML v1.0//EN
BEGIN:VEVENT
UID:16514
DTSTART;VALUE=DATE:20230318
URL;VALUE=URI:ohschonhell.at/?page_id=36786
SUMMARY:5 years Rhythm Science w/ Poggio & Corbeau
LOCATION:SASS
END:VEVENT
END:VCALENDAR


