BEGIN:VCALENDAR
VERSION:2.0
PRODID:-//hacksw/handcal//NONSGML v1.0//EN
BEGIN:VEVENT
UID:16516
DTSTART;VALUE=DATE:20230319
URL;VALUE=URI:ohschonhell.at/?page_id=36790
SUMMARY:MORGENGYMNASTIK - 5 years RHYTHM SCIENCE w/ Poggio & Corbeau 
LOCATION:SASS
END:VEVENT
END:VCALENDAR


