BEGIN:VCALENDAR
VERSION:2.0
PRODID:-//hacksw/handcal//NONSGML v1.0//EN
BEGIN:VEVENT
UID:16530
DTSTART;VALUE=DATE:20230324
URL;VALUE=URI:ohschonhell.at/?page_id=36819
SUMMARY:ACCELERATED VOL./
LOCATION:Black Market
END:VEVENT
END:VCALENDAR


