BEGIN:VCALENDAR
VERSION:2.0
PRODID:-//hacksw/handcal//NONSGML v1.0//EN
BEGIN:VEVENT
UID:1657
DTSTART;VALUE=DATE:20140710
URL;VALUE=URI:ohschonhell.at/?page_id=4220
SUMMARY:STADT LAND FLUSS @ Volksgarten Pavillon
LOCATION:VOLKSGARTEN PAVILLON
END:VEVENT
END:VCALENDAR


