BEGIN:VCALENDAR
VERSION:2.0
PRODID:-//hacksw/handcal//NONSGML v1.0//EN
BEGIN:VEVENT
UID:16573
DTSTART;VALUE=DATE:20230415
URL;VALUE=URI:ohschonhell.at/?page_id=36908
SUMMARY:VIBRANT w/ DJ Pipe\, Stipo & Reinhard Zach
LOCATION:SASS
END:VEVENT
END:VCALENDAR


