BEGIN:VCALENDAR
VERSION:2.0
PRODID:-//hacksw/handcal//NONSGML v1.0//EN
BEGIN:VEVENT
UID:16587
DTSTART;VALUE=DATE:20230407
URL;VALUE=URI:ohschonhell.at/?page_id=36936
SUMMARY:Ostern auf der T(a)rab Rennbahn - Sünden? Bockt!
LOCATION:Der Ponyhof
END:VEVENT
END:VCALENDAR


