BEGIN:VCALENDAR
VERSION:2.0
PRODID:-//hacksw/handcal//NONSGML v1.0//EN
BEGIN:VEVENT
UID:16597
DTSTART;VALUE=DATE:20230420
URL;VALUE=URI:ohschonhell.at/?page_id=36956
SUMMARY:Downhill Baby
LOCATION:Der Ponyhof
END:VEVENT
END:VCALENDAR


