BEGIN:VCALENDAR
VERSION:2.0
PRODID:-//hacksw/handcal//NONSGML v1.0//EN
BEGIN:VEVENT
UID:16598
DTSTART;VALUE=DATE:20230406
URL;VALUE=URI:ohschonhell.at/?page_id=36958
SUMMARY:DONNERSTAG NACHT / GRÜNDONNERSTAG 
LOCATION:SASS
END:VEVENT
END:VCALENDAR


