BEGIN:VCALENDAR
VERSION:2.0
PRODID:-//hacksw/handcal//NONSGML v1.0//EN
BEGIN:VEVENT
UID:16600
DTSTART;VALUE=DATE:20230409
URL;VALUE=URI:ohschonhell.at/?page_id=36962
SUMMARY:MORGENGYMNASTIK
LOCATION:SASS
END:VEVENT
END:VCALENDAR


