BEGIN:VCALENDAR
VERSION:2.0
PRODID:-//hacksw/handcal//NONSGML v1.0//EN
BEGIN:VEVENT
UID:16602
DTSTART;VALUE=DATE:20230408
URL;VALUE=URI:ohschonhell.at/?page_id=36966
SUMMARY:AFTERHOUR mit DISCOMASTER CONSOLE & JOHANNES HAIDIN
LOCATION:Black Market
END:VEVENT
END:VCALENDAR


