BEGIN:VCALENDAR
VERSION:2.0
PRODID:-//hacksw/handcal//NONSGML v1.0//EN
BEGIN:VEVENT
UID:16606
DTSTART;VALUE=DATE:20230414
URL;VALUE=URI:ohschonhell.at/?page_id=36974
SUMMARY:Drumworks presents Decon (Jazzsticks / GER) & Delusion (Reverse\, AT) @ Black Market
LOCATION:Black Market
END:VEVENT
END:VCALENDAR


