BEGIN:VCALENDAR
VERSION:2.0
PRODID:-//hacksw/handcal//NONSGML v1.0//EN
BEGIN:VEVENT
UID:16607
DTSTART;VALUE=DATE:20230422
URL;VALUE=URI:ohschonhell.at/?page_id=36976
SUMMARY:AFTERHOUR mit SUTTER CANE extended set
LOCATION:Black Market
END:VEVENT
END:VCALENDAR


