BEGIN:VCALENDAR
VERSION:2.0
PRODID:-//hacksw/handcal//NONSGML v1.0//EN
BEGIN:VEVENT
UID:16623
DTSTART;VALUE=DATE:20230416
URL;VALUE=URI:ohschonhell.at/?page_id=37014
SUMMARY:WiENER GRANTiX // MAXiMO & DJ.EESY
LOCATION:Black Market
END:VEVENT
END:VCALENDAR


