BEGIN:VCALENDAR
VERSION:2.0
PRODID:-//hacksw/handcal//NONSGML v1.0//EN
BEGIN:VEVENT
UID:16626
DTSTART;VALUE=DATE:20230422
URL;VALUE=URI:ohschonhell.at/?page_id=37020
SUMMARY:TAKT LOS!
LOCATION:Kramladen
END:VEVENT
END:VCALENDAR


