BEGIN:VCALENDAR
VERSION:2.0
PRODID:-//hacksw/handcal//NONSGML v1.0//EN
BEGIN:VEVENT
UID:16636
DTSTART;VALUE=DATE:20230505
URL;VALUE=URI:ohschonhell.at/?page_id=37040
SUMMARY:Goldspatz <°v°>  Damon Jee & Ravintsara 
LOCATION:Der Ponyhof
END:VEVENT
END:VCALENDAR


