BEGIN:VCALENDAR
VERSION:2.0
PRODID:-//hacksw/handcal//NONSGML v1.0//EN
BEGIN:VEVENT
UID:16651
DTSTART;VALUE=DATE:20230512
URL;VALUE=URI:ohschonhell.at/?page_id=37070
SUMMARY:Löwenzahn X Jessi H<3rz & Rui de Janeiro
LOCATION:Der Ponyhof
END:VEVENT
END:VCALENDAR


