BEGIN:VCALENDAR
VERSION:2.0
PRODID:-//hacksw/handcal//NONSGML v1.0//EN
BEGIN:VEVENT
UID:16681
DTSTART;VALUE=DATE:20230429
URL;VALUE=URI:ohschonhell.at/?page_id=37132
SUMMARY:AFTERHOUR mit ALTROY JEROME & KRAUS KLANG
LOCATION:Black Market
END:VEVENT
END:VCALENDAR


