BEGIN:VCALENDAR
VERSION:2.0
PRODID:-//hacksw/handcal//NONSGML v1.0//EN
BEGIN:VEVENT
UID:16693
DTSTART;VALUE=DATE:20230506
URL;VALUE=URI:ohschonhell.at/?page_id=37158
SUMMARY:KOLOTOURÉ "Notion EP" Release Konzert
LOCATION:VIPER ROOM
END:VEVENT
END:VCALENDAR


