BEGIN:VCALENDAR
VERSION:2.0
PRODID:-//hacksw/handcal//NONSGML v1.0//EN
BEGIN:VEVENT
UID:16700
DTSTART;VALUE=DATE:20230507
URL;VALUE=URI:ohschonhell.at/?page_id=37174
SUMMARY:WiENER GRANTiX AFTERHOUR w/ GABRiEL & Æ-X
LOCATION:Black Market
END:VEVENT
END:VCALENDAR


