BEGIN:VCALENDAR
VERSION:2.0
PRODID:-//hacksw/handcal//NONSGML v1.0//EN
BEGIN:VEVENT
UID:16710
DTSTART;VALUE=DATE:20230513
URL;VALUE=URI:ohschonhell.at/?page_id=37194
SUMMARY:Stereotyp*in-Festival Afterparty @ Der Ponyhof
LOCATION:Der Ponyhof
END:VEVENT
END:VCALENDAR


