BEGIN:VCALENDAR
VERSION:2.0
PRODID:-//hacksw/handcal//NONSGML v1.0//EN
BEGIN:VEVENT
UID:16718
DTSTART;VALUE=DATE:20230505
URL;VALUE=URI:ohschonhell.at/?page_id=37210
SUMMARY:TAKEOVER w/ Techno am Berg
LOCATION:SASS
END:VEVENT
END:VCALENDAR


