BEGIN:VCALENDAR
VERSION:2.0
PRODID:-//hacksw/handcal//NONSGML v1.0//EN
BEGIN:VEVENT
UID:1672
DTSTART;VALUE=DATE:20140724
URL;VALUE=URI:ohschonhell.at/?page_id=4237
SUMMARY:POPFEST TAG 1 - Do\, 24. Juli @ brut feat. NAMBY PAMBY BOY\, GLUTAMAT\, MEDUSA´S BED
LOCATION:BRUT
END:VEVENT
END:VCALENDAR


