BEGIN:VCALENDAR
VERSION:2.0
PRODID:-//hacksw/handcal//NONSGML v1.0//EN
BEGIN:VEVENT
UID:16745
DTSTART;VALUE=DATE:20230521
URL;VALUE=URI:ohschonhell.at/?page_id=37269
SUMMARY:AFTERHOUR mit CED & MORAST
LOCATION:Black Market
END:VEVENT
END:VCALENDAR


