BEGIN:VCALENDAR
VERSION:2.0
PRODID:-//hacksw/handcal//NONSGML v1.0//EN
BEGIN:VEVENT
UID:16749
DTSTART;VALUE=DATE:20230531
URL;VALUE=URI:ohschonhell.at/?page_id=37280
SUMMARY:Cheval fatale
LOCATION:Der Ponyhof
END:VEVENT
END:VCALENDAR


