BEGIN:VCALENDAR
VERSION:2.0
PRODID:-//hacksw/handcal//NONSGML v1.0//EN
BEGIN:VEVENT
UID:16754
DTSTART;VALUE=DATE:20230518
URL;VALUE=URI:ohschonhell.at/?page_id=37290
SUMMARY:Cosmic Connection vol.2
LOCATION:Kramladen
END:VEVENT
END:VCALENDAR


