BEGIN:VCALENDAR
VERSION:2.0
PRODID:-//hacksw/handcal//NONSGML v1.0//EN
BEGIN:VEVENT
UID:16769
DTSTART;VALUE=DATE:20230527
URL;VALUE=URI:ohschonhell.at/?page_id=37320
SUMMARY:OH SCHON OPEN AIR
LOCATION:PORTO POLLO
END:VEVENT
END:VCALENDAR


