BEGIN:VCALENDAR
VERSION:2.0
PRODID:-//hacksw/handcal//NONSGML v1.0//EN
BEGIN:VEVENT
UID:16771
DTSTART;VALUE=DATE:20230511
URL;VALUE=URI:ohschonhell.at/?page_id=37324
SUMMARY:TECHNO YOGA DINNER
LOCATION:Bolena Restaurant - Weinbar - Partyraum
END:VEVENT
END:VCALENDAR


