BEGIN:VCALENDAR
VERSION:2.0
PRODID:-//hacksw/handcal//NONSGML v1.0//EN
BEGIN:VEVENT
UID:16774
DTSTART;VALUE=DATE:20230520
URL;VALUE=URI:ohschonhell.at/?page_id=37333
SUMMARY:KÜSS MA UNS | hosted by GRENZWERT!G
LOCATION:Der Ponyhof
END:VEVENT
END:VCALENDAR


