BEGIN:VCALENDAR
VERSION:2.0
PRODID:-//hacksw/handcal//NONSGML v1.0//EN
BEGIN:VEVENT
UID:1678
DTSTART;VALUE=DATE:20140712
URL;VALUE=URI:ohschonhell.at/?page_id=4244
SUMMARY:Tanzmatratze &amp\; Kumpanen
LOCATION:ELEKTRO GÖNNER
END:VEVENT
END:VCALENDAR


