BEGIN:VCALENDAR
VERSION:2.0
PRODID:-//hacksw/handcal//NONSGML v1.0//EN
BEGIN:VEVENT
UID:16806
DTSTART;VALUE=DATE:20230601
URL;VALUE=URI:ohschonhell.at/?page_id=37402
SUMMARY:Donnerstrab
LOCATION:Der Ponyhof
END:VEVENT
END:VCALENDAR


