BEGIN:VCALENDAR
VERSION:2.0
PRODID:-//hacksw/handcal//NONSGML v1.0//EN
BEGIN:VEVENT
UID:16813
DTSTART;VALUE=DATE:20230617
URL;VALUE=URI:ohschonhell.at/?page_id=37416
SUMMARY:G.SPOT Pride ?️‍? FREE Party
LOCATION:HIMMEL UND WASSER
END:VEVENT
END:VCALENDAR


