BEGIN:VCALENDAR
VERSION:2.0
PRODID:-//hacksw/handcal//NONSGML v1.0//EN
BEGIN:VEVENT
UID:16823
DTSTART;VALUE=DATE:20230603
URL;VALUE=URI:ohschonhell.at/?page_id=37436
SUMMARY:Ein Freudentanz im Ponyhof
LOCATION:Der Ponyhof
END:VEVENT
END:VCALENDAR


