BEGIN:VCALENDAR
VERSION:2.0
PRODID:-//hacksw/handcal//NONSGML v1.0//EN
BEGIN:VEVENT
UID:1683
DTSTART;VALUE=DATE:20140714
URL;VALUE=URI:ohschonhell.at/?page_id=4251
SUMMARY:Camillo Love Flower Power Birthday Bash
LOCATION:VIENNA CITY BEACH CLUB
END:VEVENT
END:VCALENDAR


