BEGIN:VCALENDAR
VERSION:2.0
PRODID:-//hacksw/handcal//NONSGML v1.0//EN
BEGIN:VEVENT
UID:16834
DTSTART;VALUE=DATE:20230608
URL;VALUE=URI:ohschonhell.at/?page_id=37458
SUMMARY:MORGENGYMNASTIK x 15+1 YRS SASS
LOCATION:SASS
END:VEVENT
END:VCALENDAR


