BEGIN:VCALENDAR
VERSION:2.0
PRODID:-//hacksw/handcal//NONSGML v1.0//EN
BEGIN:VEVENT
UID:16861
DTSTART;VALUE=DATE:20230617
URL;VALUE=URI:ohschonhell.at/?page_id=37515
SUMMARY:LÖWENZAHN w/ Robert Hud (BAALSAAL)
LOCATION:Kramladen
END:VEVENT
END:VCALENDAR


