BEGIN:VCALENDAR
VERSION:2.0
PRODID:-//hacksw/handcal//NONSGML v1.0//EN
BEGIN:VEVENT
UID:16867
DTSTART;VALUE=DATE:20230609
URL;VALUE=URI:ohschonhell.at/?page_id=37529
SUMMARY:Drumworks presents Sequences [Dispatch] & Syncline [Jazzsticks] @ Black Market
LOCATION:Black Market
END:VEVENT
END:VCALENDAR


