BEGIN:VCALENDAR
VERSION:2.0
PRODID:-//hacksw/handcal//NONSGML v1.0//EN
BEGIN:VEVENT
UID:16869
DTSTART;VALUE=DATE:20230611
URL;VALUE=URI:ohschonhell.at/?page_id=37535
SUMMARY:AFTERHOUR mit DANZ & ALTBERG
LOCATION:Black Market
END:VEVENT
END:VCALENDAR


