BEGIN:VCALENDAR
VERSION:2.0
PRODID:-//hacksw/handcal//NONSGML v1.0//EN
BEGIN:VEVENT
UID:1689
DTSTART;VALUE=DATE:20140719
URL;VALUE=URI:ohschonhell.at/?page_id=4270
SUMMARY:CAGE - DJ Zach Burns
LOCATION:CAMERA CLUB
END:VEVENT
END:VCALENDAR


