BEGIN:VCALENDAR
VERSION:2.0
PRODID:-//hacksw/handcal//NONSGML v1.0//EN
BEGIN:VEVENT
UID:16895
DTSTART;VALUE=DATE:20230623
URL;VALUE=URI:ohschonhell.at/?page_id=37587
SUMMARY:Summerstation DIF // Psytrance & Techno
LOCATION:SUMMER STATION
END:VEVENT
END:VCALENDAR


