BEGIN:VCALENDAR
VERSION:2.0
PRODID:-//hacksw/handcal//NONSGML v1.0//EN
BEGIN:VEVENT
UID:16901
DTSTART;VALUE=DATE:20230617
URL;VALUE=URI:ohschonhell.at/?page_id=37600
SUMMARY:AFTERHOUR mit KIPPPUNKT & M.E.F.
LOCATION:Black Market
END:VEVENT
END:VCALENDAR


