BEGIN:VCALENDAR
VERSION:2.0
PRODID:-//hacksw/handcal//NONSGML v1.0//EN
BEGIN:VEVENT
UID:16905
DTSTART;VALUE=DATE:20230706
URL;VALUE=URI:ohschonhell.at/?page_id=37610
SUMMARY:Cosmic Connection vol.3
LOCATION:Kramladen
END:VEVENT
END:VCALENDAR


