BEGIN:VCALENDAR
VERSION:2.0
PRODID:-//hacksw/handcal//NONSGML v1.0//EN
BEGIN:VEVENT
UID:16910
DTSTART;VALUE=DATE:20230624
URL;VALUE=URI:ohschonhell.at/?page_id=37621
SUMMARY:AFTERHOUR mit KRAUS KLANG & INESSA
LOCATION:Black Market
END:VEVENT
END:VCALENDAR


