BEGIN:VCALENDAR
VERSION:2.0
PRODID:-//hacksw/handcal//NONSGML v1.0//EN
BEGIN:VEVENT
UID:16939
DTSTART;VALUE=DATE:20230701
URL;VALUE=URI:ohschonhell.at/?page_id=37683
SUMMARY:TECHNOPOLIS AFTERHOUR
LOCATION:Black Market
END:VEVENT
END:VCALENDAR


