BEGIN:VCALENDAR
VERSION:2.0
PRODID:-//hacksw/handcal//NONSGML v1.0//EN
BEGIN:VEVENT
UID:16940
DTSTART;VALUE=DATE:20230702
URL;VALUE=URI:ohschonhell.at/?page_id=37686
SUMMARY:AFTERHOUR mit WIENER MISCHUNG & SUTTER CANE
LOCATION:Black Market
END:VEVENT
END:VCALENDAR


