BEGIN:VCALENDAR
VERSION:2.0
PRODID:-//hacksw/handcal//NONSGML v1.0//EN
BEGIN:VEVENT
UID:16966
DTSTART;VALUE=DATE:20230726
URL;VALUE=URI:ohschonhell.at/?page_id=37740
SUMMARY:Cheval fatale
LOCATION:Der Ponyhof
END:VEVENT
END:VCALENDAR


