BEGIN:VCALENDAR
VERSION:2.0
PRODID:-//hacksw/handcal//NONSGML v1.0//EN
BEGIN:VEVENT
UID:1697
DTSTART;VALUE=DATE:20140712
URL;VALUE=URI:ohschonhell.at/?page_id=4278
SUMMARY:Kleinste Disco der Stadt meets imola-music
LOCATION:DONAU
END:VEVENT
END:VCALENDAR


