BEGIN:VCALENDAR
VERSION:2.0
PRODID:-//hacksw/handcal//NONSGML v1.0//EN
BEGIN:VEVENT
UID:16977
DTSTART;VALUE=DATE:20230722
URL;VALUE=URI:ohschonhell.at/?page_id=37762
SUMMARY:G.SPOT - No bad Vibes
LOCATION:Der Ponyhof
END:VEVENT
END:VCALENDAR


