BEGIN:VCALENDAR
VERSION:2.0
PRODID:-//hacksw/handcal//NONSGML v1.0//EN
BEGIN:VEVENT
UID:16978
DTSTART;VALUE=DATE:20230708
URL;VALUE=URI:ohschonhell.at/?page_id=37765
SUMMARY:AFTERHOUR mit PHILIPP BLECHA aka DADAJACK & KRAUSKLANG
LOCATION:Black Market
END:VEVENT
END:VCALENDAR


